BEGIN:VCALENDAR
VERSION:2.0
PRODID:-//Saint John Wanderers - ECPv6.15.20//NONSGML v1.0//EN
CALSCALE:GREGORIAN
METHOD:PUBLISH
X-ORIGINAL-URL:https://saintjohnwanderers.ca
X-WR-CALDESC:Events for Saint John Wanderers
REFRESH-INTERVAL;VALUE=DURATION:PT1H
X-Robots-Tag:noindex
X-PUBLISHED-TTL:PT1H
BEGIN:VTIMEZONE
TZID:America/Halifax
BEGIN:DAYLIGHT
TZOFFSETFROM:-0400
TZOFFSETTO:-0300
TZNAME:ADT
DTSTART:20240310T060000
END:DAYLIGHT
BEGIN:STANDARD
TZOFFSETFROM:-0300
TZOFFSETTO:-0400
TZNAME:AST
DTSTART:20241103T050000
END:STANDARD
BEGIN:DAYLIGHT
TZOFFSETFROM:-0400
TZOFFSETTO:-0300
TZNAME:ADT
DTSTART:20250309T060000
END:DAYLIGHT
BEGIN:STANDARD
TZOFFSETFROM:-0300
TZOFFSETTO:-0400
TZNAME:AST
DTSTART:20251102T050000
END:STANDARD
BEGIN:DAYLIGHT
TZOFFSETFROM:-0400
TZOFFSETTO:-0300
TZNAME:ADT
DTSTART:20260308T060000
END:DAYLIGHT
BEGIN:STANDARD
TZOFFSETFROM:-0300
TZOFFSETTO:-0400
TZNAME:AST
DTSTART:20261101T050000
END:STANDARD
END:VTIMEZONE
BEGIN:VTIMEZONE
TZID:America/Halifax
BEGIN:DAYLIGHT
TZOFFSETFROM:-0400
TZOFFSETTO:-0300
TZNAME:ADT
DTSTART:20220313T060000
END:DAYLIGHT
BEGIN:STANDARD
TZOFFSETFROM:-0300
TZOFFSETTO:-0400
TZNAME:AST
DTSTART:20221106T050000
END:STANDARD
BEGIN:DAYLIGHT
TZOFFSETFROM:-0400
TZOFFSETTO:-0300
TZNAME:ADT
DTSTART:20230312T060000
END:DAYLIGHT
BEGIN:STANDARD
TZOFFSETFROM:-0300
TZOFFSETTO:-0400
TZNAME:AST
DTSTART:20231105T050000
END:STANDARD
BEGIN:DAYLIGHT
TZOFFSETFROM:-0400
TZOFFSETTO:-0300
TZNAME:ADT
DTSTART:20240310T060000
END:DAYLIGHT
BEGIN:STANDARD
TZOFFSETFROM:-0300
TZOFFSETTO:-0400
TZNAME:AST
DTSTART:20241103T050000
END:STANDARD
END:VTIMEZONE
BEGIN:VEVENT
DTSTART;TZID=America/Halifax:20250705T180000
DTEND;TZID=America/Halifax:20250705T210000
DTSTAMP:20260420T075254
CREATED:20250528T010802Z
LAST-MODIFIED:20250528T011114Z
UID:5216-1751738400-1751749200@saintjohnwanderers.ca
SUMMARY:2025 Hall of Fame Dinner
DESCRIPTION:SAVE THE DATE \n\n\nThe Saint John Wanderers are excited to announce the date of our annual Hall Of Fame Dinner.\n\n\n Mark your calendars for Saturday\, July 5th at Rocky’s Sports Bar! \n\n\nDoors will open at 6:00pm\, with the event starting at 7:00pm.\n\n\nTickets are $60 with choice of steak or chicken. To purchase your ticket\, you can etransfer to stjwanderers@gmail.com. Please include your meal choice!
URL:https://saintjohnwanderers.ca/event/2025-hall-of-fame-dinner/
LOCATION:Rocky’s Sports Bar\, 7 Market Square\, Saint John\, New Brunswick\, E2L 5C8\, Canada
CATEGORIES:Social
ATTACH;FMTTYPE=image/png:https://saintjohnwanderers.ca/wp/wp-content/uploads/2025/05/2025-07-05-Wanderers-HOF-Announcement.png
END:VEVENT
BEGIN:VEVENT
DTSTART;TZID=America/Halifax:20230422T180000
DTEND;TZID=America/Halifax:20230422T233000
DTSTAMP:20260420T075254
CREATED:20230422T210018Z
LAST-MODIFIED:20231125T114454Z
UID:4149-1682186400-1682206200@saintjohnwanderers.ca
SUMMARY:Hall of Fame Dinner and Auction
DESCRIPTION:Save the Date for the 2023 Saint John Alpine Wanderers Hall of Fame Dinner and Auction. \nWhen: Sat April 22\nTime: 6pm Alumni Mixer/7pm Hall of Fame Dinner/8pm HOF Inductions\nWhere: Tipsy Tomato (Millidgeville) \nTickets ($40) go on Sale on Mon Feb 20th. \nMeal comes with 1 can of Moosehead product or a well shot along with one of these choices: \n\nFish and chips\nButtermilk chicken and fries\nBurger and fries\n\nWe are looking forward to an exciting night celebrating some of the best to play and coach for the W. To secure your tickets to this event see a Wanderers Player or Representative!
URL:https://saintjohnwanderers.ca/event/hall-of-fame-dinner-and-auction/
LOCATION:Tipsy Tomato (Millidgeville)\, 473 Millidge Ave\, Saint John\, New Brunswick\, E2K 2N3\, Canada
CATEGORIES:Social
ATTACH;FMTTYPE=image/jpeg:https://saintjohnwanderers.ca/wp/wp-content/uploads/2023/11/2023-04-22-HOF-Dinner-and-Auction.jpg
END:VEVENT
END:VCALENDAR